BEGIN:VCALENDAR
VERSION:2.0
PRODID:-//Dialysis Patient Citizens Education Center - ECPv6.15.20//NONSGML v1.0//EN
CALSCALE:GREGORIAN
METHOD:PUBLISH
X-WR-CALNAME:Dialysis Patient Citizens Education Center
X-ORIGINAL-URL:https://www.dpcedcenter.org
X-WR-CALDESC:Events for Dialysis Patient Citizens Education Center
REFRESH-INTERVAL;VALUE=DURATION:PT1H
X-Robots-Tag:noindex
X-PUBLISHED-TTL:PT1H
BEGIN:VTIMEZONE
TZID:America/New_York
BEGIN:DAYLIGHT
TZOFFSETFROM:-0500
TZOFFSETTO:-0400
TZNAME:EDT
DTSTART:20210314T070000
END:DAYLIGHT
BEGIN:STANDARD
TZOFFSETFROM:-0400
TZOFFSETTO:-0500
TZNAME:EST
DTSTART:20211107T060000
END:STANDARD
BEGIN:DAYLIGHT
TZOFFSETFROM:-0500
TZOFFSETTO:-0400
TZNAME:EDT
DTSTART:20220313T070000
END:DAYLIGHT
BEGIN:STANDARD
TZOFFSETFROM:-0400
TZOFFSETTO:-0500
TZNAME:EST
DTSTART:20221106T060000
END:STANDARD
BEGIN:DAYLIGHT
TZOFFSETFROM:-0500
TZOFFSETTO:-0400
TZNAME:EDT
DTSTART:20230312T070000
END:DAYLIGHT
BEGIN:STANDARD
TZOFFSETFROM:-0400
TZOFFSETTO:-0500
TZNAME:EST
DTSTART:20231105T060000
END:STANDARD
END:VTIMEZONE
BEGIN:VEVENT
DTSTART;TZID=America/New_York:20220728T140000
DTEND;TZID=America/New_York:20220728T150000
DTSTAMP:20260425T163113
CREATED:20220622T205108Z
LAST-MODIFIED:20230509T221219Z
UID:10292-1659016800-1659020400@www.dpcedcenter.org
SUMMARY:Navigating a Renal Diet: Decoding the Mystery
DESCRIPTION:Print out the flyer: color | black and white \nPresented by Fanny Sung Whelan\, MS\, RD\, LDN \nJuly 28\, 2022\n2:00 pm ET\, 1:00 pm CT\, 12:00 pm MT\, 11:00 am PT \nDuring this informational session\, you will learn about: \n\nHighlights of a CKD diet\nDialysis diet – in-center hemodialysis vs. home therapies\nTransplant Diet guidelines\n\nView the Recording \n\nFanny Sung Whelan is a Registered Dietitian licensed in Tennessee. She has been working with renal patients for 11 years\, specializing in home therapies\, and for the past 9 years\, with transplant and all stages of CKD patients as well. She also has experience working with the elderly and end of life nutritional care. \nDownload the Slides
URL:https://www.dpcedcenter.org/education-webinar/navigating-a-renal-diet-decoding-the-mystery/
CATEGORIES:Education Seminar,Kidney Disease & Treatment
ATTACH;FMTTYPE=image/png:https://www.dpcedcenter.org/wp-content/uploads/2022/06/July-2022-webinar.png
END:VEVENT
END:VCALENDAR